BEGIN:VCALENDAR
VERSION:2.0
PRODID:-//Tukios.com/
BEGIN:VEVENT
UID:f11d99f4-b562-4764-af38-63976faff74e@www.tredwayfuneral.com
DTSTAMP:20260425T144328Z
DTSTART:20260430T150000Z
DTEND:20260430T160000Z
SUMMARY:Visitation
DESCRIPTION:
URL:https://www.tredwayfuneral.com/obituaries/beatrice-carnes
LOCATION:Tredway Funeral Home 2131 Cameron Avenue  Norwood OH 45212
GEO:39.1542571;-84.4589871
END:VEVENT
END:VCALENDAR