BEGIN:VCALENDAR
VERSION:2.0
PRODID:-//Tukios.com/
BEGIN:VEVENT
UID:38a87a87-e62f-4083-be28-0d78a2500acb@www.tredwayfuneral.com
DTSTAMP:20260425T144448Z
DTSTART:20260430T160000Z
DTEND:20260430T170000Z
SUMMARY:Funeral Service
DESCRIPTION:
URL:https://www.tredwayfuneral.com/obituaries/beatrice-carnes
LOCATION:Tredway Funeral Home 2131 Cameron Avenue  Norwood OH 45212
GEO:39.1542571;-84.4589871
END:VEVENT
END:VCALENDAR